BEGIN:VCALENDAR
VERSION:2.0
PRODID:-//eventon.com NONSGML v1.0//EN
CALSCALE:GREGORIAN
METHOD:PUBLISH
BEGIN:VEVENT
UID:69e5de3120ed8
DTSTAMP:20260420T080505Z
DTSTART:20251123T140000Z
DTEND:20251123T170000Z
LOCATION:Stadtteilprojekt Sonnenland e.V. Sonnenland 13
SUMMARY:Sonnenland Salon – Töpfern & arbeiten mit Ton & Fahrradwerkstatt
DESCRIPTION:SONNENLAND SALONTöpfern &amp; arbeiten mit Ton&amp; Fahrradwer
 kstatt mit GeorgiosSo\,  23.11.202515:00 bis 18:00mit Micha\,  Doro u.a. in
  der Kate im Stadtteilprojekt Sonnenland e.V. Sonnenland 13 | 22115 Hamburg
  Der Sonnenland Salon schafft Freiräume der Begegnungen\,  des kreativen M
 achens\,  der Sonnenland-Geschichte(n). Bei Saft\,  Tee\,  Kaffee und Kuche
 n. Für Jede und Jeden und[..]\nhttps://www.sonnenland-hamburg.de/events/s
 onnenland-salon-toepfern-arbeiten-mit-ton-231125/
URL:https://www.sonnenland-hamburg.de/events/sonnenland-salon-toepfern-arbeiten-mit-ton-231125/
END:VEVENT
END:VCALENDAR