BEGIN:VCALENDAR
VERSION:2.0
PRODID:-//eventon.com NONSGML v1.0//EN
CALSCALE:GREGORIAN
METHOD:PUBLISH
BEGIN:VEVENT
UID:69e742102a40e
DTSTAMP:20260421T092328Z
DTSTART:20251018T130000Z
DTEND:20251018T160000Z
LOCATION:Stadtteilprojekt Sonnenland e.V. Sonnenland 13
SUMMARY:Dorfplatz: Fahrradwerkstatt\,  Nähen & Klönen\,  Basteln und mehr
DESCRIPTION:Mit Adnan\,  Georgios\,  Jürgen\,  Doro u. a. Es wird wieder g
 eschraubt\,  geflickt\,  genäht und gezeichnet! + und dazu natürlich auch
  Saft\,  Kaffee\,  Kuchen &amp; Klönschnack 🙂 Wissen austauschen\,  Res
 sourcen nutzen und unter fachkundiger Anleitung gleich ausprobieren und gan
 z praktisch anwenden! Wir führen unsere nachbarschaftliche Reihe fort\,  k
 nüpfen an und laden[..]\nhttps://www.sonnenland-hamburg.de/events/dorfplat
 z-fahrradwerkstatt-und-kloenen-basteln-und-mehr-4/
URL:https://www.sonnenland-hamburg.de/events/dorfplatz-fahrradwerkstatt-und-kloenen-basteln-und-mehr-4/
END:VEVENT
END:VCALENDAR