BEGIN:VCALENDAR
VERSION:2.0
PRODID:-//eventon.com NONSGML v1.0//EN
CALSCALE:GREGORIAN
METHOD:PUBLISH
BEGIN:VEVENT
UID:69e5ddd61406e
DTSTAMP:20260420T080334Z
DTSTART:20250913T130000Z
DTEND:20250913T160000Z
LOCATION:Stadtteilprojekt Sonnenland e.V. Sonnenland 13
SUMMARY:Dorfplatz: Fahrradwerkstatt und Klönen\,  Basteln und mehr
DESCRIPTION:Mit Georgios\,  Jürgen\,  Doro u. a. Es wird wieder geschraubt
 \,  geflickt und gezeichnet! + und dazu natürlich auch Saft\,  Kaffee\,  K
 uchen &amp; Klönschnack 🙂 Wissen austauschen\,  Ressourcen nutzen und u
 nter fachkundiger Anleitung gleich ausprobieren und ganz praktisch anwenden
 ! Wir führen unsere nachbarschaftliche Reihe fort\,  knüpfen an und laden
  herzlich ein!\nhttps://www.sonnenland-hamburg.de/events/dorfplatz-fahrradw
 erkstatt-und-kloenen-basteln-und-mehr-3/
URL:https://www.sonnenland-hamburg.de/events/dorfplatz-fahrradwerkstatt-und-kloenen-basteln-und-mehr-3/
END:VEVENT
END:VCALENDAR