BEGIN:VCALENDAR
VERSION:2.0
PRODID:-//eventon.com NONSGML v1.0//EN
CALSCALE:GREGORIAN
METHOD:PUBLISH
BEGIN:VEVENT
UID:69e5df59ea6ce
DTSTAMP:20260420T081001Z
DTSTART:20250818
DTEND:20250819
LOCATION:Stadtteilprojekt Sonnenland e.V. Sonnenland 13
SUMMARY:Die Kate macht Ferien Mo.\,  18.8. bis So.\,  31.8.25
DESCRIPTION:Bei Fragen zum Ferienprogramm meldet euch beiZalina (Tel.:+49 1
 78 19 86 33 7) oder Sönke (Tel.: 0178 88 99 11 8)oder info@sonnenland-hamb
 urg.de Die Kate macht Ferien vom 18. bis 31. August 2025\nhttps://www.sonne
 nland-hamburg.de/events/die-kate-macht-ferien-mo-18-8-bis-so-31-8-25/
URL:https://www.sonnenland-hamburg.de/events/die-kate-macht-ferien-mo-18-8-bis-so-31-8-25/
END:VEVENT
END:VCALENDAR