BEGIN:VCALENDAR
VERSION:2.0
PRODID:-//eventon.com NONSGML v1.0//EN
CALSCALE:GREGORIAN
METHOD:PUBLISH
BEGIN:VEVENT
UID:69e76c8f4163a
DTSTAMP:20260421T122447Z
DTSTART:20250611T090000Z
DTEND:20250611T120000Z
LOCATION:Stadtteilprojekt Sonnenland e.V. Sonnenland 13
SUMMARY:Dorfplatz: Mittwochstisch
DESCRIPTION:Regional und gemeinschaftlich &#8211; saisonal und nachhaltig. 
 Mit Nils &amp; Doro – wir kochen nachhaltig\,  günstig\,  lecker und ess
 en gemeinsam. Kostenfrei – gern mit Spende. Selbstgemacht und lecker! Dor
 fplatz. Middach! Mittwochs! Moin.Wir führen unsere nachbarschaftliche Reih
 e fort\,  knüpfen an und laden herzlich ein!\nhttps://www.sonnenland-hambu
 rg.de/events/dorfplatz-mittwochstisch-11/
URL:https://www.sonnenland-hamburg.de/events/dorfplatz-mittwochstisch-11/
END:VEVENT
END:VCALENDAR