BEGIN:VCALENDAR
VERSION:2.0
PRODID:-//eventon.com NONSGML v1.0//EN
CALSCALE:GREGORIAN
METHOD:PUBLISH
BEGIN:VEVENT
UID:69e76ea3549e0
DTSTAMP:20260421T123339Z
DTSTART:20250510
DTEND:20250511
LOCATION:Stadtteilprojekt Sonnenland e.V. Sonnenland 13
SUMMARY:Dorfplatz: Fahrradwerkstatt und Zeichnen im Sonnenland Salon
DESCRIPTION:Mit Josi\,  Georgios\,  Jürgen\,  Doro u. a. Es wird wieder ge
 schraubt\,  geflickt und gezeichnet! + und dazu natürlich auch Saft\,  Kaf
 fee\,  Kuchen &amp; Klönschnack 🙂 Wissen austauschen\,  Ressourcen nutz
 en und unter fachkundiger Anleitung gleich ausprobieren und ganz praktisch 
 anwenden! Wir führen unsere nachbarschaftliche Reihe fort\,  knüpfen an u
 nd laden herzlich[..]\nhttps://www.sonnenland-hamburg.de/events/dorfplatz-f
 ahrradwerkstatt-und-zeichnen-im-sonnenland-salon/
URL:https://www.sonnenland-hamburg.de/events/dorfplatz-fahrradwerkstatt-und-zeichnen-im-sonnenland-salon/
END:VEVENT
END:VCALENDAR