BEGIN:VCALENDAR
VERSION:2.0
PRODID:-//eventon.com NONSGML v1.0//EN
CALSCALE:GREGORIAN
METHOD:PUBLISH
BEGIN:VEVENT
UID:69e742a908f08
DTSTAMP:20260421T092601Z
DTSTART:20250308T100000Z
DTEND:20250308T150000Z
LOCATION:Stadtteilprojekt Sonnenland e.V. Sonnenland 13
SUMMARY:Einladung zum Flohmarkt & Tag der Offenen Tür
DESCRIPTION:Am 08.03 lädt das Stadtteilprojekt Sonnenland zum gemeinsamen 
 Stöbern auf dem Flohmarkt ein. Bei Kaffee\,  Kuchen und Klönschnack könn
 en das Haus und die Nachbarschaft kennengelernt werden. Die Anmeldungen fü
 r einen gestellten Verkaufstisch läuft über die E-Mail &#8222;oeffentlich
 keit@sonnenland-hamburg.de&#8222; Schaut gerne vorbei!\nhttps://www.sonnenl
 and-hamburg.de/events/einladung-zum-flohmarkt-tag-der-offenen-tuer/
URL:https://www.sonnenland-hamburg.de/events/einladung-zum-flohmarkt-tag-der-offenen-tuer/
END:VEVENT
END:VCALENDAR