BEGIN:VCALENDAR
VERSION:2.0
PRODID:-//eventon.com NONSGML v1.0//EN
CALSCALE:GREGORIAN
METHOD:PUBLISH
BEGIN:VEVENT
UID:69e744240b105
DTSTAMP:20260421T093220Z
DTSTART:20250416T090000Z
DTEND:20250416T120000Z
LOCATION:Stadtteilprojekt Sonnenland e.V. Sonnenland 13
SUMMARY:Dorfplatz: Mittwochstisch
DESCRIPTION:Regional und gemeinschaftlich &#8211; saisonal und nachhaltig. 
 Mit Nils &amp; Doro Selbstgemacht und lecker! Dorfplatz. Middach! Mittwochs
 ! Moin.Wir führen unsere nachbarschaftliche Reihe fort\,  knüpfen an und 
 laden herzlich ein!\nhttps://www.sonnenland-hamburg.de/events/dorfplatz-mit
 twochstisch-10/
URL:https://www.sonnenland-hamburg.de/events/dorfplatz-mittwochstisch-10/
END:VEVENT
END:VCALENDAR