BEGIN:VCALENDAR
VERSION:2.0
PRODID:-//eventon.com NONSGML v1.0//EN
CALSCALE:GREGORIAN
METHOD:PUBLISH
BEGIN:VEVENT
UID:69e76a96e6180
DTSTAMP:20260421T121622Z
DTSTART:20250103T100000Z
DTEND:20250103T130000Z
LOCATION:Stadtteilprojekt Sonnenland e.V. Sonnenland 13
SUMMARY:Dorfplatz: Freitagstisch
DESCRIPTION:Regional und gemeinschaftlich &#8211; saisonal und nachhaltig. 
 Selbstgemacht und lecker! Dorfplatz. Middach! Freitags? Moin.Wir führen un
 sere nachbarschaftliche Reihe fort\,  knüpfen an und laden herzlich ein!\n
 https://www.sonnenland-hamburg.de/events/dorfplatz-freitagstisch/
URL:https://www.sonnenland-hamburg.de/events/dorfplatz-freitagstisch/
END:VEVENT
END:VCALENDAR