BEGIN:VCALENDAR
VERSION:2.0
PRODID:-//eventon.com NONSGML v1.0//EN
CALSCALE:GREGORIAN
METHOD:PUBLISH
BEGIN:VEVENT
UID:69e786df8ef80
DTSTAMP:20260421T141703Z
DTSTART:20241012
DTEND:20241013
LOCATION:Stadtteilprojekt Sonnenland e.V. Sonnenland 13
SUMMARY:Dorfplatz: Fahrradwerkstatt und Nähwerkstatt
DESCRIPTION:Es wird wieder geschraubt\,  geflickt und genäht! + und dazu n
 atürlich auch Saft\,  Kaffee\,  Kuchen &amp; Klönschnack 🙂 Wissen aust
 auschen\,  Ressourcen nutzen und unter fachkundiger Anleitung gleich auspro
 bieren und ganz praktisch anwenden! Wir führen unsere nachbarschaftliche R
 eihe fort\,  knüpfen an und laden herzlich ein!\nhttps://www.sonnenland-ha
 mburg.de/events/dorfplatz-fahrradwerkstatt-und-nahwerkstatt-12102024/
URL:https://www.sonnenland-hamburg.de/events/dorfplatz-fahrradwerkstatt-und-nahwerkstatt-12102024/
END:VEVENT
END:VCALENDAR