BEGIN:VCALENDAR
VERSION:2.0
PRODID:-//eventon.com NONSGML v1.0//EN
CALSCALE:GREGORIAN
METHOD:PUBLISH
BEGIN:VEVENT
UID:69e76c94bec8d
DTSTAMP:20260421T122452Z
DTSTART:20241009T090000Z
DTEND:20241009T120000Z
LOCATION:Stadtteilprojekt Sonnenland e.V. Sonnenland 13
SUMMARY:Dorfplatz: Mittwochstisch
DESCRIPTION:Regional und gemeinschaftlich &#8211; saisonal und nachhaltig. 
 Selbstgemacht und lecker! Dorfplatz. Middach! Mittwochs? Moin.Wir führen u
 nsere nachbarschaftliche Reihe fort\,  knüpfen an und laden herzlich ein!\
 nhttps://www.sonnenland-hamburg.de/events/dorfplatz-mittwochstisch-91024/
URL:https://www.sonnenland-hamburg.de/events/dorfplatz-mittwochstisch-91024/
END:VEVENT
END:VCALENDAR