BEGIN:VCALENDAR
VERSION:2.0
PRODID:-//eventon.com NONSGML v1.0//EN
CALSCALE:GREGORIAN
METHOD:PUBLISH
BEGIN:VEVENT
UID:69e754606d893
DTSTAMP:20260421T104136Z
DTSTART:20240805
DTEND:20240806
LOCATION:Stadtteilprojekt Sonnenland e.V. Sonnenland 13
SUMMARY:Computerspiele-Werkstatt: Eigene Spiele programmieren\,  basteln\,  fotografieren mit Benny\,  Lea\,  Ibo\,  Zaklina\,  Sönke & Doro
DESCRIPTION:\nhttps://www.sonnenland-hamburg.de/events/computerspiele-werks
 tatt-eigene-spiele-programmieren-basteln-fotografieren-mit-benny-lea-ibo-za
 klina-soenke-doro/
URL:https://www.sonnenland-hamburg.de/events/computerspiele-werkstatt-eigene-spiele-programmieren-basteln-fotografieren-mit-benny-lea-ibo-zaklina-soenke-doro/
END:VEVENT
END:VCALENDAR