BEGIN:VCALENDAR
VERSION:2.0
PRODID:-//eventon.com NONSGML v1.0//EN
CALSCALE:GREGORIAN
METHOD:PUBLISH
BEGIN:VEVENT
UID:69e5ddbfc9a2f
DTSTAMP:20260420T080311Z
DTSTART:20240531T130000Z
DTEND:20240531T170000Z
LOCATION:Stadtteilprojekt Sonnenland e.V. Sonnenland 13
SUMMARY:Kreatives Konstruieren: Mit Benny & Minecraft
DESCRIPTION:Es geht weiter: Das letzte mal hatten wir großen Spaß und wir
  haben zusammen tolle Sachen zum Leben erwecken lassen: Es wurde schon eini
 ges an Grundsteinen\,  fantasievolle Architektur und ganze Wohnsiedlungen g
 ebaut! Wir wachsen weiter und werden größer 🙂 Kommt uns doch in der Zu
 kunftsstadt besuchen und werdet Teil davon!\nhttps://www.sonnenland-hamburg
 .de/events/kreatives-konstruieren-mit-benny-minecraft/
URL:https://www.sonnenland-hamburg.de/events/kreatives-konstruieren-mit-benny-minecraft/
END:VEVENT
END:VCALENDAR