BEGIN:VCALENDAR
VERSION:2.0
PRODID:-//eventon.com NONSGML v1.0//EN
CALSCALE:GREGORIAN
METHOD:PUBLISH
BEGIN:VEVENT
UID:69e78538caf3f
DTSTAMP:20260421T141000Z
DTSTART:20240427T130000Z
DTEND:20240427T160000Z
LOCATION:Stadtteilprojekt Sonnenland e.V. Sonnenland 13
SUMMARY:Dorfplatz: Fahrradwerkstatt und Brotbacken
DESCRIPTION:Es wird an Rädern geschraubt und in der Küche knuspriges Brot
  gebacken. +und dazu natürlich auch Saft\,  Kaffee\,  Kuchen &amp; Klönsc
 hnack 🙂 Wissen austauschen\,  Ressourcen nutzen und unter fachkundiger A
 nleitung gleich ausprobieren und ganz praktisch anwenden! Wir führen unser
 e nachbarschaftliche Reihe fort\,  knüpfen an und laden herzlich ein!\nhtt
 ps://www.sonnenland-hamburg.de/events/dorfplatz-fahrrad-und-naehwerkstatt-3
 /
URL:https://www.sonnenland-hamburg.de/events/dorfplatz-fahrrad-und-naehwerkstatt-3/
END:VEVENT
END:VCALENDAR