BEGIN:VCALENDAR
VERSION:2.0
PRODID:-//eventon.com NONSGML v1.0//EN
CALSCALE:GREGORIAN
METHOD:PUBLISH
BEGIN:VEVENT
UID:69e74192c0fa1
DTSTAMP:20260421T092122Z
DTSTART:20240426T130000Z
DTEND:20240426T153000Z
LOCATION:Stadtteilprojekt Sonnenland e.V. Sonnenland 13
SUMMARY:Club 50+
DESCRIPTION:Der Club wächst zusammen und heißt weitere &#8222;Mitglieder:
 innen&#8220; gerne willkommen. Herzliche Einladung zu unserem neuen Angebot
 \,  welches insbesondere an Personen Ü 50 Jahren gerichtet ist. Aber auch 
 genauso an alle\,  die sich über vermeintliche Altersgrenzen hinaus\,  nac
 hbarschaftlich und generationsübergreifend engagieren und austauschen möc
 hten! Wir freuen uns\,  voneinander zu lernen und[..]\nhttps://www.sonnenla
 nd-hamburg.de/events/club-50-das-neue-seniorinnencafe-copy/
URL:https://www.sonnenland-hamburg.de/events/club-50-das-neue-seniorinnencafe-copy/
END:VEVENT
END:VCALENDAR