BEGIN:VCALENDAR
VERSION:2.0
PRODID:-//eventon.com NONSGML v1.0//EN
CALSCALE:GREGORIAN
METHOD:PUBLISH
BEGIN:VEVENT
UID:69e7886764b6d
DTSTAMP:20260421T142335Z
DTSTART:20240323T140000Z
DTEND:20240323T170000Z
LOCATION:Stadtteilprojekt Sonnenland e.V. Sonnenland 13
SUMMARY:Dorfplatz: Fahrrad- und Nähwerkstatt
DESCRIPTION:Nähwerkstatt mit Adan &#8211; Fahrradwerkstatt mit Jürgen\,  
 Doro- und Thomas! Der in Vertretung von Georgios erstmals dabei ist\,  aber
  das hier schon alles bestens kennt 🙂 Ihr ihn ganz bestimmt auch!? Schau
 t vorbei und macht eure Räder frühlingsfit! +und dazu natürlich auch Saf
 t\,  Kaffee\,  Kuchen &amp; Klönschnack 🙂 Räder\,  Nähen-[..]\nhttps:
 //www.sonnenland-hamburg.de/events/dorfplatz-fahrrad-und-naehwerkstatt-2/
URL:https://www.sonnenland-hamburg.de/events/dorfplatz-fahrrad-und-naehwerkstatt-2/
END:VEVENT
END:VCALENDAR