BEGIN:VCALENDAR
VERSION:2.0
PRODID:-//eventon.com NONSGML v1.0//EN
CALSCALE:GREGORIAN
METHOD:PUBLISH
BEGIN:VEVENT
UID:69e782ebdb16c
DTSTAMP:20260421T140011Z
DTSTART:20240612T090000Z
DTEND:20240612T113000Z
LOCATION:Stadtteilprojekt Sonnenland e.V. Sonnenland 13
SUMMARY:Dorfplatz: Mittwochstisch
DESCRIPTION:Regional und gemeinschaftlich &#8211; saisonal und nachhaltig. 
 Selbstgemacht und lecker! Dorfplatz. Middach! Mittwochs? Moin. Wir führen 
 unsere nachbarschaftliche Reihe fort\,  knüpfen an und laden herzlich ein!
 \nhttps://www.sonnenland-hamburg.de/events/dorfplatz-mittwochstisch-5/
URL:https://www.sonnenland-hamburg.de/events/dorfplatz-mittwochstisch-5/
END:VEVENT
END:VCALENDAR