BEGIN:VCALENDAR
VERSION:2.0
PRODID:-//eventon.com NONSGML v1.0//EN
CALSCALE:GREGORIAN
METHOD:PUBLISH
BEGIN:VEVENT
UID:69e76a90c4ded
DTSTAMP:20260421T121616Z
DTSTART:20240515T090000Z
DTEND:20240515T120000Z
LOCATION:Stadtteilprojekt Sonnenland e.V. Sonnenland 13
SUMMARY:Dorfplatz: Mittwochstisch
DESCRIPTION:Regional und gemeinschaftlich &#8211; saisonal und nachhaltig. 
 Diesmal insbesondere auch interkulturell\,  sowie immer selbstgemacht und l
 ecker! Dorfplatz. Middach! Mittwochs? Moin. Wir führen unsere nachbarschaf
 tliche Reihe fort\,  knüpfen an und laden herzlich ein!\nhttps://www.sonne
 nland-hamburg.de/events/dorfplatz-mittwochstisch-4/
URL:https://www.sonnenland-hamburg.de/events/dorfplatz-mittwochstisch-4/
END:VEVENT
END:VCALENDAR