BEGIN:VCALENDAR
VERSION:2.0
PRODID:-//eventon.com NONSGML v1.0//EN
CALSCALE:GREGORIAN
METHOD:PUBLISH
BEGIN:VEVENT
UID:69e9f4dde8600
DTSTAMP:20260423T103053Z
DTSTART:20240306T100000Z
DTEND:20240306T123000Z
LOCATION:Stadtteilprojekt Sonnenland e.V. Sonnenland 13
SUMMARY:Dorfplatz: Mittwochstisch (+Terminübersicht)
DESCRIPTION:Karottencreme- oder Kartoffel-Lauch-Suppe? Und dazu selbstgebac
 kenes Baguette! Das haben wir beim letzten mal zusammen gezaubert- und es w
 ar alles: Regional und gemeinschaftlich &#8211; saisonal und nachhaltig. Se
 lbstgemacht und lecker! Dorfplatz. Middach! Mittwochs? Moin. Wir führen un
 sere nachbarschaftliche Reihe fort\,  knüpfen an und laden herzlich ein! T
 ERMINÜBERSICHT MÄRZ &#8211; JUNI\nhttps://www.sonnenland-hamburg.de/event
 s/dorfplatz-mittwochstisch-mit-terminuebersicht/
URL:https://www.sonnenland-hamburg.de/events/dorfplatz-mittwochstisch-mit-terminuebersicht/
END:VEVENT
END:VCALENDAR