BEGIN:VCALENDAR
VERSION:2.0
PRODID:-//eventon.com NONSGML v1.0//EN
CALSCALE:GREGORIAN
METHOD:PUBLISH
BEGIN:VEVENT
UID:69e73e476d0ef
DTSTAMP:20260421T090719Z
DTSTART:20240223T140000Z
DTEND:20240223T163000Z
LOCATION:Stadtteilprojekt Sonnenland e.V. Sonnenland 13
SUMMARY:Club 50+ (Das neue Senior:innencafÃ©)
DESCRIPTION:Der Club formiert sich und heiÃŸt weitere &#8222;Mitglieder:inn
 en&#8220; gerne willkommen. Herzliche Einladung zu unserem neuen Angebot\, 
  welches insbesondere an Senioren &amp; Seniorinnen gerichtet ist. Aber auc
 h genauso an alle\,  die sich Ã¼ber vermeintliche Altersgrenzen hinaus\,  n
 achbarschaftlich und generationsÃ¼bergreifend engagieren und austauschen mÃ
 ¶chten! Wir freuen uns\,  voneinander zu lernen und den[..]\nhttps://www.so
 nnenland-hamburg.de/events/club-50-das-neue-seniorinnencafe-2/
URL:https://www.sonnenland-hamburg.de/events/club-50-das-neue-seniorinnencafe-2/
END:VEVENT
END:VCALENDAR