BEGIN:VCALENDAR
VERSION:2.0
PRODID:-//eventon.com NONSGML v1.0//EN
CALSCALE:GREGORIAN
METHOD:PUBLISH
BEGIN:VEVENT
UID:69e9f51c1459c
DTSTAMP:20260423T103156Z
DTSTART:20240224T140000Z
DTEND:20240224T170000Z
LOCATION:Stadtteilprojekt Sonnenland e.V. Sonnenland 13
SUMMARY:Dorfplatz: Nähwerkstatt und mehr
DESCRIPTION:Mit Adan\,  Doro und Jürgen. Mit Raum für Schönes\,  Gestalt
 ung und Spontanes. Und natürlich auch mit Saft\,  Kaffee\,  Kuchen &amp; K
 lönschnack.. Wissen austauschen\,  Ressourcen nutzen und unter fachkundige
 r Anleitung gleich ausprobieren und praktisch anwenden! Wir führen unsere 
 nachbarschaftliche Reihe fort\,  knüpfen an und laden herzlich ein!\nhttps
 ://www.sonnenland-hamburg.de/events/dorfplatz-naehwerkstatt-und-mehr-2/
URL:https://www.sonnenland-hamburg.de/events/dorfplatz-naehwerkstatt-und-mehr-2/
END:VEVENT
END:VCALENDAR