BEGIN:VCALENDAR
VERSION:2.0
PRODID:-//eventon.com NONSGML v1.0//EN
CALSCALE:GREGORIAN
METHOD:PUBLISH
BEGIN:VEVENT
UID:69e76ac5ea767
DTSTAMP:20260421T121709Z
DTSTART:20240214T100000Z
DTEND:20240214T123000Z
LOCATION:Stadtteilprojekt Sonnenland e.V. Sonnenland 13
SUMMARY:Dorfplatz: Mittwochstisch
DESCRIPTION:Zum Valentinstag möchten wir euch gerne Tür und Tor öffnen- 
 in das Herz des Dorfplatzs! Dort\,  wo man in der Mitmachküche direkt mal 
 an die dampfenden Töpfe darf. Darin zu entdecken: Leckeres\,  Lokales und 
 Nachhaltiges. Jahreszeitengemäß und deftig. Seid also gespannt und kommt 
 gerne vorbei- zum mit anpacken oder einfach[..]\nhttps://www.sonnenland-ham
 burg.de/events/dorfplatz-mittwochstisch-2/
URL:https://www.sonnenland-hamburg.de/events/dorfplatz-mittwochstisch-2/
END:VEVENT
END:VCALENDAR