BEGIN:VCALENDAR
VERSION:2.0
PRODID:-//eventon.com NONSGML v1.0//EN
CALSCALE:GREGORIAN
METHOD:PUBLISH
BEGIN:VEVENT
UID:69e73e74dee74
DTSTAMP:20260421T090804Z
DTSTART:20240127T140000Z
DTEND:20240127T170000Z
LOCATION:Stadtteilprojekt Sonnenland e.V. Sonnenland 13
SUMMARY:Dorfplatz: Nähwerkstatt und mehr
DESCRIPTION:Mit Adan\,  Doro und Jürgen. Und natürlich auch mit Saft\,  K
 affee\,  Kuchen &amp; Klönschnack.. Wissen austauschen\,  Ressourcen nutze
 n und unter fachkundiger Anleitung gleich ausprobieren und praktisch anwend
 en! Weitere Infos folgen in Kürze. Wir führen unsere nachbarschaftliche R
 eihe fort\,  knüpfen an und laden herzlich ein!\nhttps://www.sonnenland-ha
 mburg.de/events/dorfplatz-naehwerkstatt-und-mehr/
URL:https://www.sonnenland-hamburg.de/events/dorfplatz-naehwerkstatt-und-mehr/
END:VEVENT
END:VCALENDAR