BEGIN:VCALENDAR
VERSION:2.0
PRODID:-//eventon.com NONSGML v1.0//EN
CALSCALE:GREGORIAN
METHOD:PUBLISH
BEGIN:VEVENT
UID:69e76a778801c
DTSTAMP:20260421T121551Z
DTSTART:20240124T100000Z
DTEND:20240124T130000Z
LOCATION:Stadtteilprojekt Sonnenland e.V. Sonnenland 13
SUMMARY:Dorfplatz: Mittwochstisch
DESCRIPTION:Wir laden zum zweiten mal in die beste Adresse an unserem schö
 nsten Dorfplatz! Dort\,  wo man in der Mitmachküche direkt mal an die damp
 fenden Töpfe darf. Darin zu entdecken: Leckeres\,  Lokales und Nachhaltige
 s. Jahreszeitengemäß und deftig. Seid also gespannt und kommt gerne vorbe
 i- zum mit anpacken oder einfach nur herzlich[..]\nhttps://www.sonnenland-h
 amburg.de/events/dorfplatz-mittwochstisch/
URL:https://www.sonnenland-hamburg.de/events/dorfplatz-mittwochstisch/
END:VEVENT
END:VCALENDAR