BEGIN:VCALENDAR
VERSION:2.0
PRODID:-//eventon.com NONSGML v1.0//EN
CALSCALE:GREGORIAN
METHOD:PUBLISH
BEGIN:VEVENT
UID:69e785085244d
DTSTAMP:20260421T140912Z
DTSTART:20231213T100000Z
DTEND:20231213T130000Z
LOCATION:Stadtteilprojekt Sonnenland e.V. Sonnenland 13
SUMMARY:Dorfplatz: Mittwochstisch (NEU!)
DESCRIPTION:Was wäre ein echter Dorfplatz\,  ohne die eine gute Stube zum 
 Einkehren\,  sich treffen und willkommen sein? Dort\,  wo man in der Küche
  direkt mal in die dampfenden Töpfe schauen darf? Und da wird man auch sch
 on von Nils begrüßt. Manche kennen ihn schon von unseren Urban Gardening 
 Aktionen\,  andere[..]\nhttps://www.sonnenland-hamburg.de/events/dorfplatz-
 mittwochstisch-neu/
URL:https://www.sonnenland-hamburg.de/events/dorfplatz-mittwochstisch-neu/
END:VEVENT
END:VCALENDAR