BEGIN:VCALENDAR
VERSION:2.0
PRODID:-//eventon.com NONSGML v1.0//EN
CALSCALE:GREGORIAN
METHOD:PUBLISH
BEGIN:VEVENT
UID:69e744ad2826c
DTSTAMP:20260421T093437Z
DTSTART:20231216T140000Z
DTEND:20231216T170000Z
LOCATION:Stadtteilprojekt Sonnenland e.V. Sonnenland 13
SUMMARY:Dorfplatz: Fahrrad- und NÃ¤hwerkstatt
DESCRIPTION:NÃ¤hwerkstatt mit Svea und Adan &#8211; Fahrradwerkstatt mit JÃ
 ¼rgen\,  Doro- und in Vertretung von Georgios erstmals dabei: Ole\,  seines
  Zeichens routinierter Schrauber und wetterfester Fahrradkurier: Daher ab d
 amit in den Buschfunk: 13/1 Sonnenland\,  bitte kommen! ðŸ“¡ðŸš² +und dazu 
 natÃ¼rlich auch Saft\,  Kaffee\,  Kuchen &amp; KlÃ¶nschnack ðŸ™‚ RÃ¤der\,  
 NÃ¤hen- Wissen austauschen\, [..]\nhttps://www.sonnenland-hamburg.de/events
 /dorfplatz-fahrrad-und-naehwerkstatt/
URL:https://www.sonnenland-hamburg.de/events/dorfplatz-fahrrad-und-naehwerkstatt/
END:VEVENT
END:VCALENDAR