BEGIN:VCALENDAR
VERSION:2.0
PRODID:-//eventon.com NONSGML v1.0//EN
CALSCALE:GREGORIAN
METHOD:PUBLISH
BEGIN:VEVENT
UID:69e73e975a4db
DTSTAMP:20260421T090839Z
DTSTART:20231119T170000Z
DTEND:20231119T190000Z
LOCATION:Stadtteilprojekt Sonnenland e.V. Sonnenland 13
SUMMARY:Wo auch immer der Wind mich hinführt - Eine szenische Lesung
DESCRIPTION:&#8222;Schreiben ist für mich\,  als hätte ich eine Sauerstof
 fflasche unter Wasser&#8220; Melly An diesem Sonntag liest Melly aus ihren 
 Texten &#8211; es geht ums (Über-)Leben\,  wenn die Papiere unklar sind un
 d ums Erwachsenwerden mit vielen Umbrüchen. Mit Foto und Videoprojektionen
 . Etwas zu Essen und Trinken gibt es natürlich auch. Es[..]\nhttps://www.s
 onnenland-hamburg.de/events/notizen-von-melly-eine-szenische-lesung/
URL:https://www.sonnenland-hamburg.de/events/notizen-von-melly-eine-szenische-lesung/
END:VEVENT
END:VCALENDAR