BEGIN:VCALENDAR
VERSION:2.0
PRODID:-//eventon.com NONSGML v1.0//EN
CALSCALE:GREGORIAN
METHOD:PUBLISH
BEGIN:VEVENT
UID:69e7895b2e89c
DTSTAMP:20260421T142739Z
DTSTART:20231111T140000Z
DTEND:20231111T170000Z
LOCATION:Stadtteilprojekt Sonnenland e.V. Sonnenland 13
SUMMARY:Dorfplatz: Medien- & Nähwerkstatt | Keine Fahrradwerkstatt !!⚠️
DESCRIPTION:Wir führen unsere nachbarschaftliche Reihe fort\,  knüpfen an
  und laden herzlich ein! ⚠️ Krankheitsbedingt muss die Fahrradwerkstatt
  diesmal leider ausfallen !! ⚠️ Die Medien- &amp; Nähwerkstatt findet 
 wie gewohnt statt ! +und dazu natürlich auch Saft\,  Kaffee\,  Kuchen &amp
 ; Klönschnack 🙂 Räder\,  Medien\,  Nähen- Wissen austauschen\,  Resso
 urcen nutzen und unter[..]\nhttps://www.sonnenland-hamburg.de/events/dorfpl
 atz-fahrrad-medien-naehwerkstatt/
URL:https://www.sonnenland-hamburg.de/events/dorfplatz-fahrrad-medien-naehwerkstatt/
END:VEVENT
END:VCALENDAR