BEGIN:VCALENDAR
VERSION:2.0
PRODID:-//eventon.com NONSGML v1.0//EN
CALSCALE:GREGORIAN
METHOD:PUBLISH
BEGIN:VEVENT
UID:69e76eaecd5d5
DTSTAMP:20260421T123350Z
DTSTART:20231028T130000Z
DTEND:20231028T160000Z
LOCATION:Stadtteilprojekt Sonnenland e.V. Sonnenland 13
SUMMARY:Dorfplatz: Fahrradwerkstatt + Steuern & Finanzen
DESCRIPTION:Wir führen unsere nachbarschaftliche Reihe fort\,  knüpfen an
  und laden herzlich ein!\nhttps://www.sonnenland-hamburg.de/events/dorfplat
 z-fahrradwerkstatt-steuern-finanzen/
URL:https://www.sonnenland-hamburg.de/events/dorfplatz-fahrradwerkstatt-steuern-finanzen/
END:VEVENT
END:VCALENDAR