BEGIN:VCALENDAR
VERSION:2.0
PRODID:-//eventon.com NONSGML v1.0//EN
CALSCALE:GREGORIAN
METHOD:PUBLISH
BEGIN:VEVENT
UID:69e7547732eed
DTSTAMP:20260421T104159Z
DTSTART:20231016T140000Z
DTEND:20231029T160000Z
LOCATION:Stadtteilprojekt Sonnenland e.V. Sonnenland 13
SUMMARY:Herbstferien 2023 Programmübersicht
DESCRIPTION:So sicher\,  wie die Jahreszeiten\,  haben natürlich auch wir 
 diese Ferien für euch wieder ein herbstlich goldenes Programm anzubieten! 
 Ob in- oder outdoor\,  in der kuschligen Kate oder bei spannenden Ausflüge
 n draußen- die Blätter fallen\,  aber die Laune steigt! Abwechslungsreich
 e Aktivitäten in unserem Lieblings Stadtteilprojekt oder unterwegs ganz ne
 ue Orte[..]\nhttps://www.sonnenland-hamburg.de/events/herbstferien-2023-pro
 grammuebersicht/
URL:https://www.sonnenland-hamburg.de/events/herbstferien-2023-programmuebersicht/
END:VEVENT
END:VCALENDAR