BEGIN:VCALENDAR
VERSION:2.0
PRODID:-//eventon.com NONSGML v1.0//EN
CALSCALE:GREGORIAN
METHOD:PUBLISH
BEGIN:VEVENT
UID:69e7439ce4545
DTSTAMP:20260421T093004Z
DTSTART:20230909
DTEND:20230910
LOCATION:Stadtteilprojekt Sonnenland e.V. Sonnenland 13
SUMMARY:Empowerment Workshops für Frauen: Programmübersicht
DESCRIPTION:Die Nachbarschaftseltern Mümmel&amp;Sonnenland bieten eine Rei
 he von Workshops an! Von Frauen für Frauen &#8211; Gemeinsam wollen wir ne
 ue Dinge lernen\,  uns austauschen und vernetzen. Die Workshops sind kosten
 los. Um Anmeldung wird gebeten. Gerne per Mail (j.washburn@sonnenland-hambu
 rg)\,  telefonisch oder über Whats App (0157 339 631 58) Erzählt gerne an
 deren Frauen von[..]\nhttps://www.sonnenland-hamburg.de/events/empowerment-
 workshops-fuer-frauen-programmuebersicht/
URL:https://www.sonnenland-hamburg.de/events/empowerment-workshops-fuer-frauen-programmuebersicht/
END:VEVENT
END:VCALENDAR