BEGIN:VCALENDAR
VERSION:2.0
PRODID:-//eventon.com NONSGML v1.0//EN
CALSCALE:GREGORIAN
METHOD:PUBLISH
BEGIN:VEVENT
UID:69e5dd541b419
DTSTAMP:20260420T080124Z
DTSTART:20230806T120000Z
DTEND:20230806T160000Z
LOCATION:Stadtteilprojekt Sonnenland e.V. Sonnenland 13
SUMMARY:Dorfplatz: Fahrradwerkstatt & Nähwerkstatt
DESCRIPTION:Wir führen unsere nachbarschaftliche Reihe fort\,  knüpfen an
  und laden herzlich ein!\nhttps://www.sonnenland-hamburg.de/events/dorfplat
 z-fahrradwerkstatt-naehwerkstatt/
URL:https://www.sonnenland-hamburg.de/events/dorfplatz-fahrradwerkstatt-naehwerkstatt/
END:VEVENT
END:VCALENDAR