BEGIN:VCALENDAR
VERSION:2.0
PRODID:-//eventon.com NONSGML v1.0//EN
CALSCALE:GREGORIAN
METHOD:PUBLISH
BEGIN:VEVENT
UID:69e784035812c
DTSTAMP:20260421T140451Z
DTSTART:20230701T140000Z
DTEND:20230702T193000Z
LOCATION:Stadtteilprojekt Sonnenland e.V. Sonnenland 13
SUMMARY:Hamburger Architektur Sommer:                                              Dorfplatz Sonnenland im Juli
DESCRIPTION:Laubengänge — living streets\,  vol. 3: Wir führen unsere n
 achbarschaftliche Reihe fort\,  knüpfen an und laden herzlich ein! Gesprä
 chsrunde am 01.07. mit Dr. Anne Vogelpohl (Geographin\,  Stadtforscherin)\,
   Sascha Seidel (Architekt)\,  Martin Fischer (Bezirksamt Hamburg-Mitte) un
 d Sonnenländer*innen: welche Räume brauchen wir\,  wie soll ein soziales 
 und kulturelles Zentrum Sonnenland sein? Eine[..]\nhttps://www.sonnenland-h
 amburg.de/events/hamburger-architektur-sommer-dorfplatz-sonnenland-im-juli/
URL:https://www.sonnenland-hamburg.de/events/hamburger-architektur-sommer-dorfplatz-sonnenland-im-juli/
END:VEVENT
END:VCALENDAR