BEGIN:VCALENDAR
VERSION:2.0
PRODID:-//eventon.com NONSGML v1.0//EN
CALSCALE:GREGORIAN
METHOD:PUBLISH
BEGIN:VEVENT
UID:69e789ed6521d
DTSTAMP:20260421T143005Z
DTSTART:20230515T120000Z
DTEND:20230517T180000Z
LOCATION:Stadtteilprojekt Sonnenland e.V. Sonnenland 13
SUMMARY:Hamburger Architektur Sommer:                                              Dorfplatz Sonnenland im Mai
DESCRIPTION:LaubengÃ¤nge â€” living streets\,  vol. 3: Wir fÃ¼hren unsere n
 achbarschaftliche Reihe fort\,  knÃ¼pfen an und laden herzlich ein! TemporÃ
 ¤res Aktionszelt im Sonnenland\,  Hamburg Billstedt\,  zum miteinander Rede
 n\,  Nachdenken\,  Planen und Modellieren zu den Fragen: Welche RÃ¤ume brau
 chen wir\,  welches soziale und kulturelle Zentrum wÃ¼nschen wir uns im Son
 nenland? An drei[..]\nhttps://www.sonnenland-hamburg.de/events/hamburger-ar
 chitektur-sommer-dorfplatz-sonnenland-im-mai/
URL:https://www.sonnenland-hamburg.de/events/hamburger-architektur-sommer-dorfplatz-sonnenland-im-mai/
END:VEVENT
END:VCALENDAR