BEGIN:VCALENDAR
VERSION:2.0
PRODID:-//eventon.com NONSGML v1.0//EN
CALSCALE:GREGORIAN
METHOD:PUBLISH
BEGIN:VEVENT
UID:69e73fce0b00d
DTSTAMP:20260421T091350Z
DTSTART:20230126T173000Z
DTEND:20230126T190000Z
LOCATION:Stadtteilprojekt Sonnenland e.V. Sonnenland 13
SUMMARY:Nachbarschafts-Stammtisch
DESCRIPTION:Der Nachbarschafts-Stammtisch ein offener Treffpunkt fÃ¼r Bewoh
 nerinnen und Bewohner aus dem Sonnenland. Alle sind herzlich eingeladen ðŸ™
 ‚\nhttps://www.sonnenland-hamburg.de/events/nachbarschafts-stammtisch-3/
URL:https://www.sonnenland-hamburg.de/events/nachbarschafts-stammtisch-3/
END:VEVENT
END:VCALENDAR