BEGIN:VCALENDAR
VERSION:2.0
PRODID:-//eventon.com NONSGML v1.0//EN
CALSCALE:GREGORIAN
METHOD:PUBLISH
BEGIN:VEVENT
UID:69e74308c6c53
DTSTAMP:20260421T092736Z
DTSTART:20220806T130000Z
DTEND:20220806T160000Z
LOCATION:Stadtteilprojekt Sonnenland e.V. Sonnenland 13
SUMMARY:Fahrrad-Werkstatt Sonnenland
DESCRIPTION:Wir reparieren FahrrÃ¤der\,  basteln und treffen uns. Habt ihr 
 ein Fahrrad zu reparieren? Kommt vorbei!Auf der AuÃŸenterasse und im Verans
 taltungsraum\,  mit Saft\,  Kaffee\,  Kuchen und KlÃ¶nschnackGeorgios\,  JÃ
 ¼rgen und Doro werden dabei sein! im Rahmen der ZUKUNFTSWERSKTÃ„TTEN &#8211
 ; nachbarschaftliches und kooperatives Sonnenland/ KirchsteinbekQuartiersfo
 nd Hamburg-Mitte\nhttps://www.sonnenland-hamburg.de/events/fahrrad-werkstat
 t-sonnenland/
URL:https://www.sonnenland-hamburg.de/events/fahrrad-werkstatt-sonnenland/
END:VEVENT
END:VCALENDAR