BEGIN:VCALENDAR
VERSION:2.0
PRODID:-//eventon.com NONSGML v1.0//EN
CALSCALE:GREGORIAN
METHOD:PUBLISH
BEGIN:VEVENT
UID:69e5f2e97980a
DTSTAMP:20260420T093329Z
DTSTART:20220507T130000Z
DTEND:20220507T153000Z
LOCATION:Stadtteilprojekt Sonnenland e.V. Sonnenland 13
SUMMARY:Fahrrad-Reparatur
DESCRIPTION:Weil es so schön war gleich nochmal: Wir reparieren Fahrräder
 \,  basteln und treffen uns. Georgios\,  Jürgen und Mo werden dabei sein!\
 nhttps://www.sonnenland-hamburg.de/events/fahrrad-reparatur-2/
URL:https://www.sonnenland-hamburg.de/events/fahrrad-reparatur-2/
END:VEVENT
END:VCALENDAR