BEGIN:VCALENDAR
VERSION:2.0
PRODID:-//eventon.com NONSGML v1.0//EN
CALSCALE:GREGORIAN
METHOD:PUBLISH
BEGIN:VEVENT
UID:69e7401d35c04
DTSTAMP:20260421T091509Z
DTSTART:20220430T130000Z
DTEND:20220430T193000Z
LOCATION:Stadtteilprojekt Sonnenland e.V. Sonnenland 13
SUMMARY:Urban Gardening und Maibaumfest
DESCRIPTION:Wir bauen und bepflanzen Hochbeete\,  treffen uns\,  reden mite
 inander. Im Anschluss gibt es auch etwas zu essen und zu trinken.\nhttps://
 www.sonnenland-hamburg.de/events/urban-gardening-und-maibaumfest/
URL:https://www.sonnenland-hamburg.de/events/urban-gardening-und-maibaumfest/
END:VEVENT
END:VCALENDAR